BEGIN:VCALENDAR
VERSION:2.0
PRODID:-//hacksw/handcal//NONSGML v1.0//EN
CALSCALE:GREGORIAN
BEGIN:VEVENT
LOCATION:MuseumsQuartier\, Museumsplatz\, Vienna\, Austria
SUMMARY:Decarb Cities Conference
DESCRIPTION:Decarb Cities Conference
DTSTART:20220511T000000
DTEND:20220512T000000
URL;VALUE=URI:https://energy-cities.eu/event/decarb-cities-conference/
DTSTAMP:now
UID:659765ba4fe98
END:VEVENT
END:VCALENDAR