BEGIN:VCALENDAR
VERSION:2.0
PRODID:-//hacksw/handcal//NONSGML v1.0//EN
CALSCALE:GREGORIAN
BEGIN:VEVENT
LOCATION:Nantes\, France
SUMMARY:2èmes Assises des énergies renouvelables citoyennes
DESCRIPTION:2èmes Assises des énergies renouvelables citoyennes
DTSTART:20211108T000000
DTEND:20211108T000000
URL;VALUE=URI:https://energy-cities.eu/fr/evenement/2emes-assises-des-energies-renouvelables-citoyennes/
DTSTAMP:now
UID:659768476b727
END:VEVENT
END:VCALENDAR