BEGIN:VCALENDAR
VERSION:2.0
PRODID:-//hacksw/handcal//NONSGML v1.0//EN
CALSCALE:GREGORIAN
BEGIN:VEVENT
LOCATION:Nantes\, France
SUMMARY:Assises territoriales de la transition agro-alimentaire et de l’alimentation durable
DESCRIPTION:Assises territoriales de la transition agro-alimentaire et de l’alimentation durable
DTSTART:20220912T000000
DTEND:20220913T000000
URL;VALUE=URI:https://energy-cities.eu/fr/evenement/assises-territoriales-de-la-transition-agro-alimentaire-et-de-lalimentation-durable/
DTSTAMP:now
UID:659763651f2ec
END:VEVENT
END:VCALENDAR