BEGIN:VCALENDAR
VERSION:2.0
PRODID:-//hacksw/handcal//NONSGML v1.0//EN
CALSCALE:GREGORIAN
BEGIN:VEVENT
LOCATION:Nantes\, France
SUMMARY:Conférence européenne sur le climat
DESCRIPTION:Conférence européenne sur le climat
DTSTART:20220307T000000
DTEND:20220308T000000
URL;VALUE=URI:https://energy-cities.eu/fr/evenement/conference-europeenne-sur-le-climat/
DTSTAMP:now
UID:6597676697dd1
END:VEVENT
END:VCALENDAR