BEGIN:VCALENDAR
VERSION:2.0
PRODID:-//hacksw/handcal//NONSGML v1.0//EN
CALSCALE:GREGORIAN
BEGIN:VEVENT
LOCATION:Nantes\, France
SUMMARY:Euroheat &#038\; Power Congress 2019
DESCRIPTION:Euroheat &#038\; Power Congress 2019
DTSTART:20190506T000000
DTEND:20190508T000000
URL;VALUE=URI:https://energy-cities.eu/fr/evenement/euroheat-power-congress-2019/
DTSTAMP:now
UID:6597767a3d092
END:VEVENT
END:VCALENDAR