BEGIN:VCALENDAR
VERSION:2.0
PRODID:-//hacksw/handcal//NONSGML v1.0//EN
CALSCALE:GREGORIAN
BEGIN:VEVENT
LOCATION:Nantes\, France
SUMMARY:European Climate Conference
DESCRIPTION:European Climate Conference
DTSTART:20220307T000000
DTEND:20220308T000000
URL;VALUE=URI:https://energy-cities.eu/event/conference-europeenne-sur-le-climat/
DTSTAMP:now
UID:6597632630f71
END:VEVENT
END:VCALENDAR