BEGIN:VCALENDAR
VERSION:2.0
PRODID:-//hacksw/handcal//NONSGML v1.0//EN
CALSCALE:GREGORIAN
BEGIN:VEVENT
LOCATION:New York City\, NY\, USA
SUMMARY:UN climate action summit 2019
DESCRIPTION:UN climate action summit 2019
DTSTART:20190923T080000
DTEND:20190923T120000
URL;VALUE=URI:https://energy-cities.eu/event/un-climate-action-summit-2019/
DTSTAMP:now
UID:659777b30de6f
END:VEVENT
END:VCALENDAR