BEGIN:VCALENDAR
VERSION:2.0
PRODID:-//hacksw/handcal//NONSGML v1.0//EN
CALSCALE:GREGORIAN
BEGIN:VEVENT
LOCATION:Nice\, France
SUMMARY:Summer school: Energy transition and you!
DESCRIPTION:Summer school: Energy transition and you!
DTSTART:20190909T080000
DTEND:20190913T180000
URL;VALUE=URI:https://energy-cities.eu/event/energy-transition-and-you/
DTSTAMP:now
UID:6597770e66c08
END:VEVENT
END:VCALENDAR