BEGIN:VCALENDAR
VERSION:2.0
PRODID:-//hacksw/handcal//NONSGML v1.0//EN
CALSCALE:GREGORIAN
BEGIN:VEVENT
LOCATION:Oslo\, Norway
SUMMARY:2nd OECD Roundtable on the Circular Economy in Cities and Regions
DESCRIPTION:2nd OECD Roundtable on the Circular Economy in Cities and Regions
DTSTART:20200331T090000
DTEND:20200331T180000
URL;VALUE=URI:https://energy-cities.eu/event/2nd-oecd-roundtable-on-the-circular-economy-in-cities-and-regions/
DTSTAMP:now
UID:65976b602cf13
END:VEVENT
END:VCALENDAR