BEGIN:VCALENDAR
VERSION:2.0
PRODID:-//hacksw/handcal//NONSGML v1.0//EN
CALSCALE:GREGORIAN
BEGIN:VEVENT
LOCATION:Oslo\, Norway
SUMMARY:Covenant cities leading long-term climate strategies
DESCRIPTION:Covenant cities leading long-term climate strategies
DTSTART:20190522T133000
DTEND:20190522T143000
URL;VALUE=URI:https://energy-cities.eu/fr/evenement/covenant-cities-leading-long-term-climate-strategies/
DTSTAMP:now
UID:6597661bcdf7a
END:VEVENT
END:VCALENDAR