BEGIN:VCALENDAR
VERSION:2.0
PRODID:-//hacksw/handcal//NONSGML v1.0//EN
CALSCALE:GREGORIAN
BEGIN:VEVENT
LOCATION:Oslo\, Norway
SUMMARY:Urban Future Global Conference #UFGC19
DESCRIPTION:Urban Future Global Conference #UFGC19
DTSTART:20190522T000000
DTEND:20190524T000000
URL;VALUE=URI:https://energy-cities.eu/fr/evenement/urban-future-global-conference-ufgc19/
DTSTAMP:now
UID:65976da88d41f
END:VEVENT
END:VCALENDAR