BEGIN:VCALENDAR
VERSION:2.0
PRODID:-//hacksw/handcal//NONSGML v1.0//EN
CALSCALE:GREGORIAN
BEGIN:VEVENT
LOCATION:Palais des Congrès\, Bordeaux\, France
SUMMARY:Jusqu’à quel point démanteler les réseaux de distribution de gaz pour leur assurer un équilibre économique ? 
DESCRIPTION:Jusqu’à quel point démanteler les réseaux de distribution de gaz pour leur assurer un équilibre économique ? 
DTSTART:20230523T170000
DTEND:20230523T181500
URL;VALUE=URI:https://energy-cities.eu/fr/evenement/jusqua-quel-point-demanteler-les-reseaux-de-distribution-de-gaz-pour-leur-assurer-un-equilibre-economique/
DTSTAMP:now
UID:659769d358b22
END:VEVENT
END:VCALENDAR