BEGIN:VCALENDAR
VERSION:2.0
PRODID:-//hacksw/handcal//NONSGML v1.0//EN
CALSCALE:GREGORIAN
BEGIN:VEVENT
LOCATION:Palanga\, Palangos miesto savivaldybė\, Lithuania
SUMMARY:UBC General Conference
DESCRIPTION:UBC General Conference
DTSTART:20231024T000000
DTEND:20231026T000000
URL;VALUE=URI:https://energy-cities.eu/event/ubc-general-conference/
DTSTAMP:now
UID:65976577cfb1b
END:VEVENT
END:VCALENDAR