BEGIN:VCALENDAR
VERSION:2.0
PRODID:-//hacksw/handcal//NONSGML v1.0//EN
CALSCALE:GREGORIAN
BEGIN:VEVENT
LOCATION:Pamplona\, Spain
SUMMARY:European Energy Communities Congress
DESCRIPTION:European Energy Communities Congress
DTSTART:20230125T000000
DTEND:20230126T000000
URL;VALUE=URI:https://energy-cities.eu/event/european-energy-communities-congress/
DTSTAMP:now
UID:65976b78bc8fa
END:VEVENT
END:VCALENDAR