BEGIN:VCALENDAR
VERSION:2.0
PRODID:-//hacksw/handcal//NONSGML v1.0//EN
CALSCALE:GREGORIAN
BEGIN:VEVENT
LOCATION:Pantin\, France
SUMMARY:URBACT City Festival
DESCRIPTION:URBACT City Festival
DTSTART:20220614T000000
DTEND:20220616T000000
URL;VALUE=URI:https://energy-cities.eu/event/urbact-city-festival/
DTSTAMP:now
UID:65976c15e81f0
END:VEVENT
END:VCALENDAR