BEGIN:VCALENDAR
VERSION:2.0
PRODID:-//hacksw/handcal//NONSGML v1.0//EN
CALSCALE:GREGORIAN
BEGIN:VEVENT
LOCATION:Parco Dora\, Turin\, Metropolitan City of Turin\, Italy
SUMMARY:Exploring the role of food in urban transformation
DESCRIPTION:Exploring the role of food in urban transformation
DTSTART:20220923T100000
DTEND:20220923T110000
URL;VALUE=URI:https://energy-cities.eu/event/exploring-the-role-of-food-in-urban-transformation/
DTSTAMP:now
UID:65976a9745e5a
END:VEVENT
END:VCALENDAR