BEGIN:VCALENDAR
VERSION:2.0
PRODID:-//hacksw/handcal//NONSGML v1.0//EN
CALSCALE:GREGORIAN
BEGIN:VEVENT
LOCATION:Paris\, France
SUMMARY:3e Université de l&rsquo\;autoconsommation photovoltaïque
DESCRIPTION:3e Université de l&rsquo\;autoconsommation photovoltaïque
DTSTART:20200910T000000
DTEND:20200911T000000
URL;VALUE=URI:https://energy-cities.eu/fr/evenement/3e-universite-de-lautoconsommation-photovoltaique/
DTSTAMP:now
UID:65976b9100838
END:VEVENT
END:VCALENDAR