BEGIN:VCALENDAR
VERSION:2.0
PRODID:-//hacksw/handcal//NONSGML v1.0//EN
CALSCALE:GREGORIAN
BEGIN:VEVENT
LOCATION:Paris\, France
SUMMARY:Comment intégrer l’objectif de 1\,5°C dans les budgets municipaux ?
DESCRIPTION:Comment intégrer l’objectif de 1\,5°C dans les budgets municipaux ?
DTSTART:20191119T000000
DTEND:20191119T000000
URL;VALUE=URI:https://energy-cities.eu/fr/evenement/comment-integrer-lobjectif-de-15c-dans-les-budgets-municipaux/
DTSTAMP:now
UID:6597717841c4f
END:VEVENT
END:VCALENDAR