BEGIN:VCALENDAR
VERSION:2.0
PRODID:-//hacksw/handcal//NONSGML v1.0//EN
CALSCALE:GREGORIAN
BEGIN:VEVENT
LOCATION:Paris\, France
SUMMARY:High-level Conference on Civic Engagement in EU Missions
DESCRIPTION:High-level Conference on Civic Engagement in EU Missions
DTSTART:20220321T000000
DTEND:20220321T000000
URL;VALUE=URI:https://energy-cities.eu/event/high-level-conference-on-civic-engagement-in-eu-missions/
DTSTAMP:now
UID:65976c698abfd
END:VEVENT
END:VCALENDAR