BEGIN:VCALENDAR
VERSION:2.0
PRODID:-//hacksw/handcal//NONSGML v1.0//EN
CALSCALE:GREGORIAN
BEGIN:VEVENT
LOCATION:Paris\, France
SUMMARY:Le photovoltaïque en milieu urbain
DESCRIPTION:Le photovoltaïque en milieu urbain
DTSTART:20190522T000000
DTEND:20190522T000000
URL;VALUE=URI:https://energy-cities.eu/event/le-photovoltaique-en-milieu-urbain/
DTSTAMP:now
UID:65976d6a5ab17
END:VEVENT
END:VCALENDAR