BEGIN:VCALENDAR
VERSION:2.0
PRODID:-//hacksw/handcal//NONSGML v1.0//EN
CALSCALE:GREGORIAN
BEGIN:VEVENT
LOCATION:Paris\, France
SUMMARY:Université de l&rsquo\;autoconsommation photovoltaïque
DESCRIPTION:Université de l&rsquo\;autoconsommation photovoltaïque
DTSTART:20210921T000000
DTEND:20210922T000000
URL;VALUE=URI:https://energy-cities.eu/fr/evenement/universite-de-lautoconsommation-photovoltaique/
DTSTAMP:now
UID:65977615d0763
END:VEVENT
END:VCALENDAR