BEGIN:VCALENDAR
VERSION:2.0
PRODID:-//hacksw/handcal//NONSGML v1.0//EN
CALSCALE:GREGORIAN
BEGIN:VEVENT
LOCATION:Place de Belgique 1\, 1020 Bruxelles\, Belgium
SUMMARY:Conférence ACE-Retrofitting: Comment les autorités locales et nationales peuvent-elles accélérer la rénovation énergétique des copropriétés ?
DESCRIPTION:Conférence ACE-Retrofitting: Comment les autorités locales et nationales peuvent-elles accélérer la rénovation énergétique des copropriétés ?
DTSTART:20191122T100000
DTEND:20191122T160000
URL;VALUE=URI:https://energy-cities.eu/fr/evenement/ace-retrofitting-final-conference-how-can-local-and-national-governments-accelerate-energy-retrofitting-in-condominiums/
DTSTAMP:now
UID:659763b0cf0f0
END:VEVENT
END:VCALENDAR