BEGIN:VCALENDAR
VERSION:2.0
PRODID:-//hacksw/handcal//NONSGML v1.0//EN
CALSCALE:GREGORIAN
BEGIN:VEVENT
LOCATION:Place de Belgique 1\, Brussels\, Belgium
SUMMARY:ACE-Retrofitting Conference: How can local and national governments accelerate energy retrofitting in condominiums?
DESCRIPTION:ACE-Retrofitting Conference: How can local and national governments accelerate energy retrofitting in condominiums?
DTSTART:20191122T100000
DTEND:20191122T160000
URL;VALUE=URI:https://energy-cities.eu/event/ace-retrofitting-final-conference-how-can-local-and-national-governments-accelerate-energy-retrofitting-in-condominiums/
DTSTAMP:now
UID:659771324e940
END:VEVENT
END:VCALENDAR