BEGIN:VCALENDAR
VERSION:2.0
PRODID:-//hacksw/handcal//NONSGML v1.0//EN
CALSCALE:GREGORIAN
BEGIN:VEVENT
LOCATION:Porto\, Portugal
SUMMARY:CITIES Forum 2020
DESCRIPTION:CITIES Forum 2020
DTSTART:20200130T000000
DTEND:20200131T000000
URL;VALUE=URI:https://energy-cities.eu/fr/evenement/cities-forum-2020/
DTSTAMP:now
UID:6597637870bdb
END:VEVENT
END:VCALENDAR