BEGIN:VCALENDAR
VERSION:2.0
PRODID:-//hacksw/handcal//NONSGML v1.0//EN
CALSCALE:GREGORIAN
BEGIN:VEVENT
LOCATION:Radisson Blu Latvija Conference & Spa Hotel\, Elizabetes iela 55\, Central District\, Rīga\, Latvia
SUMMARY:Affordable and sustainable housing in the EU
DESCRIPTION:Affordable and sustainable housing in the EU
DTSTART:20220706T090000
DTEND:20220706T160000
URL;VALUE=URI:https://energy-cities.eu/event/affordable-and-sustainable-housing-in-the-eu/
DTSTAMP:now
UID:659776ca286bf
END:VEVENT
END:VCALENDAR