BEGIN:VCALENDAR
VERSION:2.0
PRODID:-//hacksw/handcal//NONSGML v1.0//EN
CALSCALE:GREGORIAN
BEGIN:VEVENT
LOCATION:Rijeka\, Croatia
SUMMARY:Local solutions for energetic transition
DESCRIPTION:Local solutions for energetic transition
DTSTART:20190904T093000
DTEND:20190904T140000
URL;VALUE=URI:https://energy-cities.eu/event/local-solutions-for-energetic-transition/
DTSTAMP:now
UID:65976a72f3efc
END:VEVENT
END:VCALENDAR