BEGIN:VCALENDAR
VERSION:2.0
PRODID:-//hacksw/handcal//NONSGML v1.0//EN
CALSCALE:GREGORIAN
BEGIN:VEVENT
LOCATION:Rotterdam\, Netherlands
SUMMARY:Climate Neutral Districts: Translating local action into sustainable impact  
DESCRIPTION:Climate Neutral Districts: Translating local action into sustainable impact  
DTSTART:20230918T000000
DTEND:20230919T000000
URL;VALUE=URI:https://energy-cities.eu/event/climate-neutral-districts-translating-local-action-into-sustainable-impact/
DTSTAMP:now
UID:659771a70193c
END:VEVENT
END:VCALENDAR