BEGIN:VCALENDAR
VERSION:2.0
PRODID:-//hacksw/handcal//NONSGML v1.0//EN
CALSCALE:GREGORIAN
BEGIN:VEVENT
LOCATION:Rotterdam\, Netherlands
SUMMARY:Natural Gas-Free Neighbourhoods Workshop
DESCRIPTION:Natural Gas-Free Neighbourhoods Workshop
DTSTART:20221013T000000
DTEND:20221014T000000
URL;VALUE=URI:https://energy-cities.eu/event/natural-gas-free-neighbourhoods-workshop/
DTSTAMP:now
UID:6597660720dd7
END:VEVENT
END:VCALENDAR