BEGIN:VCALENDAR
VERSION:2.0
PRODID:-//hacksw/handcal//NONSGML v1.0//EN
CALSCALE:GREGORIAN
BEGIN:VEVENT
LOCATION:Rotterdam\, Netherlands
SUMMARY:Urban Future Global Conference
DESCRIPTION:Urban Future Global Conference
DTSTART:20210616T090000
DTEND:20210618T180000
URL;VALUE=URI:https://energy-cities.eu/event/urban-future-global-conference-2/
DTSTAMP:now
UID:65976aad86845
END:VEVENT
END:VCALENDAR