BEGIN:VCALENDAR
VERSION:2.0
PRODID:-//hacksw/handcal//NONSGML v1.0//EN
CALSCALE:GREGORIAN
BEGIN:VEVENT
LOCATION:Rue Belliard 99\, Brussels\, Belgium
SUMMARY:THEMATIC DEBATE ON NATIONAL RECOVERY AND RESILIENCE PLANS: TACKLING ENERGY POVERTY
DESCRIPTION:THEMATIC DEBATE ON NATIONAL RECOVERY AND RESILIENCE PLANS: TACKLING ENERGY POVERTY
DTSTART:20211007T110000
DTEND:20211007T130000
URL;VALUE=URI:https://energy-cities.eu/event/thematic-debate-on-national-recovery-and-resilience-plans-tackling-energy-poverty/
DTSTAMP:now
UID:65976ed28deff
END:VEVENT
END:VCALENDAR