BEGIN:VCALENDAR
VERSION:2.0
PRODID:-//hacksw/handcal//NONSGML v1.0//EN
CALSCALE:GREGORIAN
BEGIN:VEVENT
LOCATION:Rue Gineste 3\, 1210 Brussels\, Belgium
SUMMARY:Covenant of Mayors Investment Forum &#038\; Official launch of the European City Facility
DESCRIPTION:Covenant of Mayors Investment Forum &#038\; Official launch of the European City Facility
DTSTART:20200218T130000
DTEND:20200219T183000
URL;VALUE=URI:https://energy-cities.eu/event/covenant-of-mayors-investment-forum/
DTSTAMP:now
UID:659765cf9a542
END:VEVENT
END:VCALENDAR