BEGIN:VCALENDAR
VERSION:2.0
PRODID:-//hacksw/handcal//NONSGML v1.0//EN
CALSCALE:GREGORIAN
BEGIN:VEVENT
LOCATION:Rue Gineste 3\, 1210 Brussels\, Belgium
SUMMARY:Forum Investissement de la Convention des Maires &#038\; lancement officiel du EU City Facility
DESCRIPTION:Forum Investissement de la Convention des Maires &#038\; lancement officiel du EU City Facility
DTSTART:20200218T130000
DTEND:20200219T183000
URL;VALUE=URI:https://energy-cities.eu/fr/evenement/forum-investissement-de-la-convention-des-maires/
DTSTAMP:now
UID:659763f3662bd
END:VEVENT
END:VCALENDAR