BEGIN:VCALENDAR
VERSION:2.0
PRODID:-//hacksw/handcal//NONSGML v1.0//EN
CALSCALE:GREGORIAN
BEGIN:VEVENT
LOCATION:Rue Santeuil\, Paris\, France
SUMMARY:Assemblée des alliés de la Fabrique des Transitions
DESCRIPTION:Assemblée des alliés de la Fabrique des Transitions
DTSTART:20231214T000000
DTEND:20231215T000000
URL;VALUE=URI:https://energy-cities.eu/fr/evenement/assemblee-des-allies-de-la-fabrique-des-transitions/
DTSTAMP:now
UID:659772387655b
END:VEVENT
END:VCALENDAR