BEGIN:VCALENDAR
VERSION:2.0
PRODID:-//hacksw/handcal//NONSGML v1.0//EN
CALSCALE:GREGORIAN
BEGIN:VEVENT
LOCATION:Rue Santeuil\, Paris\, France
SUMMARY:Transition populaire\, écologie ordinaire
DESCRIPTION:Transition populaire\, écologie ordinaire
DTSTART:20231213T170000
DTEND:20231213T210000
URL;VALUE=URI:https://energy-cities.eu/fr/evenement/transition-populaire-ecologie-ordinaire/
DTSTAMP:now
UID:659771b7dc8db
END:VEVENT
END:VCALENDAR