BEGIN:VCALENDAR
VERSION:2.0
PRODID:-//hacksw/handcal//NONSGML v1.0//EN
CALSCALE:GREGORIAN
BEGIN:VEVENT
LOCATION:Rue de la Loi 170\, 1000 Bruxelles\, Belgium
SUMMARY:Cities on the Frontline of the Energy Crisis: the Covenant of Mayors Europe 2023 Conference
DESCRIPTION:Cities on the Frontline of the Energy Crisis: the Covenant of Mayors Europe 2023 Conference
DTSTART:20230330T093000
DTEND:20230330T130000
URL;VALUE=URI:https://energy-cities.eu/event/covenant-of-mayors-conference-2023/
DTSTAMP:now
UID:659768b6c14fd
END:VEVENT
END:VCALENDAR