BEGIN:VCALENDAR
VERSION:2.0
PRODID:-//hacksw/handcal//NONSGML v1.0//EN
CALSCALE:GREGORIAN
BEGIN:VEVENT
LOCATION:SQUARE Brussels Meeting Centre\, Mont des Arts\, Brussels\, Belgium
SUMMARY:Covenant of Mayors: together for ambitious climate and energy action (EU Week of Regions and Cities)
DESCRIPTION:Covenant of Mayors: together for ambitious climate and energy action (EU Week of Regions and Cities)
DTSTART:20231011T113000
DTEND:20231011T123000
URL;VALUE=URI:https://energy-cities.eu/event/covenant-of-mayors-together-for-ambitious-climate-and-energy-action-eu-week-of-regions-and-cities/
DTSTAMP:now
UID:659764a94f1fa
END:VEVENT
END:VCALENDAR