BEGIN:VCALENDAR
VERSION:2.0
PRODID:-//hacksw/handcal//NONSGML v1.0//EN
CALSCALE:GREGORIAN
BEGIN:VEVENT
LOCATION:Sarrebruck\, Germany
SUMMARY:Atelier TANDEM &#8211\; Rencontre des municipalités françaises et allemandes à Sarrebruck
DESCRIPTION:Atelier TANDEM &#8211\; Rencontre des municipalités françaises et allemandes à Sarrebruck
DTSTART:20231107T000000
DTEND:20231108T160000
URL;VALUE=URI:https://energy-cities.eu/event/tandem-rencontre-des-municipalites-francaises-et-allemandes-a-sarrebruck/
DTSTAMP:now
UID:659766b27afd5
END:VEVENT
END:VCALENDAR