BEGIN:VCALENDAR
VERSION:2.0
PRODID:-//hacksw/handcal//NONSGML v1.0//EN
CALSCALE:GREGORIAN
BEGIN:VEVENT
LOCATION:Sică-Alexandrescu-Theater\, Piața Teatrului\, Brașov\, Romania
SUMMARY:Citizen Engagement and Climate Neutrality: TOMORROW Session at Green Cities Forum (FOV)
DESCRIPTION:Citizen Engagement and Climate Neutrality: TOMORROW Session at Green Cities Forum (FOV)
DTSTART:20220907T083000
DTEND:20220907T100000
URL;VALUE=URI:https://energy-cities.eu/event/citizen-engagement-and-climate-neutrality-tomorrow-session-at-green-cities-forum-fov/
DTSTAMP:now
UID:65976e011197b
END:VEVENT
END:VCALENDAR