BEGIN:VCALENDAR
VERSION:2.0
PRODID:-//hacksw/handcal//NONSGML v1.0//EN
CALSCALE:GREGORIAN
BEGIN:VEVENT
LOCATION:St Raphael Resort\, Amathountos Avenue\, Pyrgos\, Limassol\, Cyprus
SUMMARY:From Efficient Buildings to Green Living Areas &#8211\;  Efficient Buildings Community’s Final Event￼
DESCRIPTION:From Efficient Buildings to Green Living Areas &#8211\;  Efficient Buildings Community’s Final Event￼
DTSTART:20221005T100000
DTEND:20221006T130000
URL;VALUE=URI:https://energy-cities.eu/event/from-efficient-buildings-to-green-living-areas-efficient-buildings-communitys-final-event￼/
DTSTAMP:now
UID:659770735d986
END:VEVENT
END:VCALENDAR