BEGIN:VCALENDAR
VERSION:2.0
PRODID:-//hacksw/handcal//NONSGML v1.0//EN
CALSCALE:GREGORIAN
BEGIN:VEVENT
LOCATION:Stockholm\, Sweden
SUMMARY:‘The Art of Public Transport’ &#8211\; UITP Global Public Transport Summit
DESCRIPTION:‘The Art of Public Transport’ &#8211\; UITP Global Public Transport Summit
DTSTART:20190609T000000
DTEND:20190612T200000
URL;VALUE=URI:https://energy-cities.eu/fr/evenement/the-art-of-public-transport-uitp-global-public-transport-summit/
DTSTAMP:now
UID:6597668a5634f
END:VEVENT
END:VCALENDAR