BEGIN:VCALENDAR
VERSION:2.0
PRODID:-//hacksw/handcal//NONSGML v1.0//EN
CALSCALE:GREGORIAN
BEGIN:VEVENT
LOCATION:Strada Doamnei 12\, București 030055\, Romania
SUMMARY:LIFE PlanUp multi-stakeholder dialogue: Integrated National Energy and Climate Plan 2021-2030 of Romania: Identifying and overcoming barriers to secure effective implementation
DESCRIPTION:LIFE PlanUp multi-stakeholder dialogue: Integrated National Energy and Climate Plan 2021-2030 of Romania: Identifying and overcoming barriers to secure effective implementation
DTSTART:20200218T090000
DTEND:20200218T170000
URL;VALUE=URI:https://energy-cities.eu/event/life-planup-multi-stakeholder-dialogue-integrated-national-energy-and-climate-plan-2021-2030-of-romania-identifying-and-overcoming-barriers-to-secure-effective-implementation/
DTSTAMP:now
UID:6597644a49bea
END:VEVENT
END:VCALENDAR