BEGIN:VCALENDAR
VERSION:2.0
PRODID:-//hacksw/handcal//NONSGML v1.0//EN
CALSCALE:GREGORIAN
BEGIN:VEVENT
LOCATION:Strasbourg\, France
SUMMARY:How much is enough? New paths to sufficiency in urban planning
DESCRIPTION:How much is enough? New paths to sufficiency in urban planning
DTSTART:20221013T000000
DTEND:20221014T000000
URL;VALUE=URI:https://energy-cities.eu/event/moins-mais-mieux-concretiser-la-sobriete-dans-lamenagement-urbain/
DTSTAMP:now
UID:659777cd4d868
END:VEVENT
END:VCALENDAR