BEGIN:VCALENDAR
VERSION:2.0
PRODID:-//hacksw/handcal//NONSGML v1.0//EN
CALSCALE:GREGORIAN
BEGIN:VEVENT
LOCATION:Strasbourg\, France
SUMMARY:Moins\, mais mieux. Concrétiser la sobriété dans l’aménagement urbain
DESCRIPTION:Moins\, mais mieux. Concrétiser la sobriété dans l’aménagement urbain
DTSTART:20221013T000000
DTEND:20221014T000000
URL;VALUE=URI:https://energy-cities.eu/fr/evenement/moins-mais-mieux-concretiser-la-sobriete-dans-lamenagement-urbain/
DTSTAMP:now
UID:65976e8f21702
END:VEVENT
END:VCALENDAR