BEGIN:VCALENDAR
VERSION:2.0
PRODID:-//hacksw/handcal//NONSGML v1.0//EN
CALSCALE:GREGORIAN
BEGIN:VEVENT
LOCATION:Strasbourg\, France
SUMMARY:The Placemaking Europe Week 2023
DESCRIPTION:The Placemaking Europe Week 2023
DTSTART:20230926T000000
DTEND:20230929T000000
URL;VALUE=URI:https://energy-cities.eu/event/the-placemaking-europe-week-2023/
DTSTAMP:now
UID:65976432ac450
END:VEVENT
END:VCALENDAR