BEGIN:VCALENDAR
VERSION:2.0
PRODID:-//hacksw/handcal//NONSGML v1.0//EN
CALSCALE:GREGORIAN
BEGIN:VEVENT
LOCATION:Stuttgart\, Germany
SUMMARY:Urban Future Forum #UF23
DESCRIPTION:Urban Future Forum #UF23
DTSTART:20230621T000000
DTEND:20230623T000000
URL;VALUE=URI:https://energy-cities.eu/event/urban-future-forum-uf23/
DTSTAMP:now
UID:65976e7ce15b7
END:VEVENT
END:VCALENDAR