BEGIN:VCALENDAR
VERSION:2.0
PRODID:-//hacksw/handcal//NONSGML v1.0//EN
CALSCALE:GREGORIAN
BEGIN:VEVENT
LOCATION:Tbilisi\, Georgia
SUMMARY:10th anniversary of the Covenant of Mayors in the Eastern Partnership Region
DESCRIPTION:10th anniversary of the Covenant of Mayors in the Eastern Partnership Region
DTSTART:20221129T000000
DTEND:20221130T000000
URL;VALUE=URI:https://energy-cities.eu/event/10th-anniversary-of-the-covenant-of-mayors-in-the-eastern-partnership-region/
DTSTAMP:now
UID:6597631ae93db
END:VEVENT
END:VCALENDAR