BEGIN:VCALENDAR
VERSION:2.0
PRODID:-//hacksw/handcal//NONSGML v1.0//EN
CALSCALE:GREGORIAN
BEGIN:VEVENT
LOCATION:Torino\, Italy
SUMMARY:Euroheat &#038\; Power Congress &#8211\; Torino 2023
DESCRIPTION:Euroheat &#038\; Power Congress &#8211\; Torino 2023
DTSTART:20230522T090000
DTEND:20230524T160000
URL;VALUE=URI:https://energy-cities.eu/event/euroheat-power-congress-torino-2023/
DTSTAMP:now
UID:659763df0f65a
END:VEVENT
END:VCALENDAR