BEGIN:VCALENDAR
VERSION:2.0
PRODID:-//hacksw/handcal//NONSGML v1.0//EN
CALSCALE:GREGORIAN
BEGIN:VEVENT
LOCATION:Tourcoing\, France
SUMMARY:NWE making an impact!
DESCRIPTION:NWE making an impact!
DTSTART:20191204T000000
DTEND:20191205T000000
URL;VALUE=URI:https://energy-cities.eu/event/nwe-making-an-impact/
DTSTAMP:now
UID:65976fb67da85
END:VEVENT
END:VCALENDAR