BEGIN:VCALENDAR
VERSION:2.0
PRODID:-//hacksw/handcal//NONSGML v1.0//EN
CALSCALE:GREGORIAN
BEGIN:VEVENT
LOCATION:Trondheim\, Norway
SUMMARY: CityxChange Final Event with Scalable Cities
DESCRIPTION: CityxChange Final Event with Scalable Cities
DTSTART:20231003T090000
DTEND:20231005T180000
URL;VALUE=URI:https://energy-cities.eu/event/cityxchange-final-event-with-scalable-cities/
DTSTAMP:now
UID:6597770a4b04b
END:VEVENT
END:VCALENDAR