BEGIN:VCALENDAR
VERSION:2.0
PRODID:-//hacksw/handcal//NONSGML v1.0//EN
CALSCALE:GREGORIAN
BEGIN:VEVENT
LOCATION:Turin\, Italy
SUMMARY:Cities Forum 2023 – Together for green and just cities
DESCRIPTION:Cities Forum 2023 – Together for green and just cities
DTSTART:20230316T000000
DTEND:20230317T000000
URL;VALUE=URI:https://energy-cities.eu/event/cities-forum-2023-together-for-green-and-just-cities/
DTSTAMP:now
UID:65977047cac4c
END:VEVENT
END:VCALENDAR